BEGIN:VCALENDAR
VERSION:2.0
PRODID:-//Kita Himmelszelt - ECPv6.15.20//NONSGML v1.0//EN
CALSCALE:GREGORIAN
METHOD:PUBLISH
X-WR-CALNAME:Kita Himmelszelt
X-ORIGINAL-URL:https://kita-himmelszelt.toelz-evangelisch.de
X-WR-CALDESC:Veranstaltungen für Kita Himmelszelt
REFRESH-INTERVAL;VALUE=DURATION:PT1H
X-Robots-Tag:noindex
X-PUBLISHED-TTL:PT1H
BEGIN:VTIMEZONE
TZID:Europe/Berlin
BEGIN:DAYLIGHT
TZOFFSETFROM:+0100
TZOFFSETTO:+0200
TZNAME:CEST
DTSTART:20230326T010000
END:DAYLIGHT
BEGIN:STANDARD
TZOFFSETFROM:+0200
TZOFFSETTO:+0100
TZNAME:CET
DTSTART:20231029T010000
END:STANDARD
BEGIN:DAYLIGHT
TZOFFSETFROM:+0100
TZOFFSETTO:+0200
TZNAME:CEST
DTSTART:20240331T010000
END:DAYLIGHT
BEGIN:STANDARD
TZOFFSETFROM:+0200
TZOFFSETTO:+0100
TZNAME:CET
DTSTART:20241027T010000
END:STANDARD
BEGIN:DAYLIGHT
TZOFFSETFROM:+0100
TZOFFSETTO:+0200
TZNAME:CEST
DTSTART:20250330T010000
END:DAYLIGHT
BEGIN:STANDARD
TZOFFSETFROM:+0200
TZOFFSETTO:+0100
TZNAME:CET
DTSTART:20251026T010000
END:STANDARD
END:VTIMEZONE
BEGIN:VEVENT
DTSTART;VALUE=DATE:20241003
DTEND;VALUE=DATE:20241004
DTSTAMP:20260423T152557
CREATED:20240731T092925Z
LAST-MODIFIED:20240731T093009Z
UID:8603-1727913600-1727999999@kita-himmelszelt.toelz-evangelisch.de
SUMMARY:Feiertag - Kita geschlossen
DESCRIPTION:
URL:https://kita-himmelszelt.toelz-evangelisch.de/event/elternabend-um-1930-uhr/
CATEGORIES:Feiertage
END:VEVENT
BEGIN:VEVENT
DTSTART;TZID=Europe/Berlin:20241006T110000
DTEND;TZID=Europe/Berlin:20241006T120000
DTSTAMP:20260423T152557
CREATED:20240731T093151Z
LAST-MODIFIED:20240731T093151Z
UID:8608-1728212400-1728216000@kita-himmelszelt.toelz-evangelisch.de
SUMMARY:Erntedankgottesdienst
DESCRIPTION:
URL:https://kita-himmelszelt.toelz-evangelisch.de/event/erntedankgottesdienst/
CATEGORIES:Veranstaltungen und Feiern
END:VEVENT
BEGIN:VEVENT
DTSTART;VALUE=DATE:20241015
DTEND;VALUE=DATE:20241016
DTSTAMP:20260423T152557
CREATED:20240731T093227Z
LAST-MODIFIED:20240731T093227Z
UID:8610-1728950400-1729036799@kita-himmelszelt.toelz-evangelisch.de
SUMMARY:Teamtag - Kita geschlossen
DESCRIPTION:
URL:https://kita-himmelszelt.toelz-evangelisch.de/event/teamtag-kita-geschlossen-11/
CATEGORIES:Schließtage
END:VEVENT
END:VCALENDAR