BEGIN:VCALENDAR
VERSION:2.0
PRODID:-//Kita Himmelszelt - ECPv6.15.20//NONSGML v1.0//EN
CALSCALE:GREGORIAN
METHOD:PUBLISH
X-WR-CALNAME:Kita Himmelszelt
X-ORIGINAL-URL:https://kita-himmelszelt.toelz-evangelisch.de
X-WR-CALDESC:Veranstaltungen für Kita Himmelszelt
REFRESH-INTERVAL;VALUE=DURATION:PT1H
X-Robots-Tag:noindex
X-PUBLISHED-TTL:PT1H
BEGIN:VTIMEZONE
TZID:Europe/Berlin
BEGIN:DAYLIGHT
TZOFFSETFROM:+0100
TZOFFSETTO:+0200
TZNAME:CEST
DTSTART:20230326T010000
END:DAYLIGHT
BEGIN:STANDARD
TZOFFSETFROM:+0200
TZOFFSETTO:+0100
TZNAME:CET
DTSTART:20231029T010000
END:STANDARD
BEGIN:DAYLIGHT
TZOFFSETFROM:+0100
TZOFFSETTO:+0200
TZNAME:CEST
DTSTART:20240331T010000
END:DAYLIGHT
BEGIN:STANDARD
TZOFFSETFROM:+0200
TZOFFSETTO:+0100
TZNAME:CET
DTSTART:20241027T010000
END:STANDARD
BEGIN:DAYLIGHT
TZOFFSETFROM:+0100
TZOFFSETTO:+0200
TZNAME:CEST
DTSTART:20250330T010000
END:DAYLIGHT
BEGIN:STANDARD
TZOFFSETFROM:+0200
TZOFFSETTO:+0100
TZNAME:CET
DTSTART:20251026T010000
END:STANDARD
END:VTIMEZONE
BEGIN:VEVENT
DTSTART;VALUE=DATE:20240501
DTEND;VALUE=DATE:20240502
DTSTAMP:20260424T005238
CREATED:20230801T094107Z
LAST-MODIFIED:20230801T094107Z
UID:8250-1714521600-1714607999@kita-himmelszelt.toelz-evangelisch.de
SUMMARY:Feiertag - Kita geschlossen
DESCRIPTION:
URL:https://kita-himmelszelt.toelz-evangelisch.de/event/feiertag-kita-geschlossen-7/
CATEGORIES:Feiertage
END:VEVENT
BEGIN:VEVENT
DTSTART;VALUE=DATE:20240502
DTEND;VALUE=DATE:20240503
DTSTAMP:20260424T005238
CREATED:20240112T111314Z
LAST-MODIFIED:20240112T111607Z
UID:8510-1714608000-1714694399@kita-himmelszelt.toelz-evangelisch.de
SUMMARY:Teamtag - Kita geschlossen
DESCRIPTION:
URL:https://kita-himmelszelt.toelz-evangelisch.de/event/teamtag-kita-geschlossen-8/
CATEGORIES:Schließtage
END:VEVENT
BEGIN:VEVENT
DTSTART;VALUE=DATE:20240503
DTEND;VALUE=DATE:20240504
DTSTAMP:20260424T005238
CREATED:20240112T111352Z
LAST-MODIFIED:20240112T111656Z
UID:8512-1714694400-1714780799@kita-himmelszelt.toelz-evangelisch.de
SUMMARY:Teamtag - Kita geschlossen
DESCRIPTION:
URL:https://kita-himmelszelt.toelz-evangelisch.de/event/teamtag-kita-geschlossen-9/
CATEGORIES:Schließtage
END:VEVENT
BEGIN:VEVENT
DTSTART;VALUE=DATE:20240509
DTEND;VALUE=DATE:20240510
DTSTAMP:20260424T005238
CREATED:20230801T094300Z
LAST-MODIFIED:20230801T094300Z
UID:8254-1715212800-1715299199@kita-himmelszelt.toelz-evangelisch.de
SUMMARY:Feiertag - Kita geschlossen
DESCRIPTION:
URL:https://kita-himmelszelt.toelz-evangelisch.de/event/feiertag-kita-geschlossen-8/
CATEGORIES:Feiertage
END:VEVENT
BEGIN:VEVENT
DTSTART;VALUE=DATE:20240510
DTEND;VALUE=DATE:20240511
DTSTAMP:20260424T005238
CREATED:20230801T094326Z
LAST-MODIFIED:20230801T094326Z
UID:8256-1715299200-1715385599@kita-himmelszelt.toelz-evangelisch.de
SUMMARY:Brückentag - Kita geschlossen
DESCRIPTION:
URL:https://kita-himmelszelt.toelz-evangelisch.de/event/brueckentag-kita-geschlossen-4/
CATEGORIES:Schließtage
END:VEVENT
BEGIN:VEVENT
DTSTART;VALUE=DATE:20240520
DTEND;VALUE=DATE:20240521
DTSTAMP:20260424T005238
CREATED:20230801T094401Z
LAST-MODIFIED:20230801T094401Z
UID:8258-1716163200-1716249599@kita-himmelszelt.toelz-evangelisch.de
SUMMARY:Feiertag - Kita geschlossen
DESCRIPTION:
URL:https://kita-himmelszelt.toelz-evangelisch.de/event/feiertag-kita-geschlossen-9/
CATEGORIES:Feiertage
END:VEVENT
BEGIN:VEVENT
DTSTART;VALUE=DATE:20240527
DTEND;VALUE=DATE:20240601
DTSTAMP:20260424T005238
CREATED:20230801T094434Z
LAST-MODIFIED:20230801T094434Z
UID:8260-1716768000-1717199999@kita-himmelszelt.toelz-evangelisch.de
SUMMARY:Kita geschlossen
DESCRIPTION:
URL:https://kita-himmelszelt.toelz-evangelisch.de/event/kita-geschlossen/
CATEGORIES:Schließtage
END:VEVENT
END:VCALENDAR