BEGIN:VCALENDAR
VERSION:2.0
PRODID:-//Kita Himmelszelt - ECPv6.15.20//NONSGML v1.0//EN
CALSCALE:GREGORIAN
METHOD:PUBLISH
X-WR-CALNAME:Kita Himmelszelt
X-ORIGINAL-URL:https://kita-himmelszelt.toelz-evangelisch.de
X-WR-CALDESC:Veranstaltungen für Kita Himmelszelt
REFRESH-INTERVAL;VALUE=DURATION:PT1H
X-Robots-Tag:noindex
X-PUBLISHED-TTL:PT1H
BEGIN:VTIMEZONE
TZID:Europe/Berlin
BEGIN:DAYLIGHT
TZOFFSETFROM:+0100
TZOFFSETTO:+0200
TZNAME:CEST
DTSTART:20220327T010000
END:DAYLIGHT
BEGIN:STANDARD
TZOFFSETFROM:+0200
TZOFFSETTO:+0100
TZNAME:CET
DTSTART:20221030T010000
END:STANDARD
BEGIN:DAYLIGHT
TZOFFSETFROM:+0100
TZOFFSETTO:+0200
TZNAME:CEST
DTSTART:20230326T010000
END:DAYLIGHT
BEGIN:STANDARD
TZOFFSETFROM:+0200
TZOFFSETTO:+0100
TZNAME:CET
DTSTART:20231029T010000
END:STANDARD
BEGIN:DAYLIGHT
TZOFFSETFROM:+0100
TZOFFSETTO:+0200
TZNAME:CEST
DTSTART:20240331T010000
END:DAYLIGHT
BEGIN:STANDARD
TZOFFSETFROM:+0200
TZOFFSETTO:+0100
TZNAME:CET
DTSTART:20241027T010000
END:STANDARD
END:VTIMEZONE
BEGIN:VEVENT
DTSTART;VALUE=DATE:20230605
DTEND;VALUE=DATE:20230610
DTSTAMP:20260425T003428
CREATED:20230503T084916Z
LAST-MODIFIED:20230503T085007Z
UID:8094-1685923200-1686355199@kita-himmelszelt.toelz-evangelisch.de
SUMMARY:Pfingstferien - Kita geschlossen
DESCRIPTION:Link-Text Link-Text
URL:https://kita-himmelszelt.toelz-evangelisch.de/event/pfingstferien-kita-geschlossen/
CATEGORIES:Schließtage
END:VEVENT
BEGIN:VEVENT
DTSTART;TZID=Europe/Berlin:20230623T120000
DTEND;TZID=Europe/Berlin:20230623T120000
DTSTAMP:20260425T003428
CREATED:20230503T085851Z
LAST-MODIFIED:20230503T085851Z
UID:8110-1687521600-1687521600@kita-himmelszelt.toelz-evangelisch.de
SUMMARY:Kita schließt um 12:00 Uhr
DESCRIPTION:
URL:https://kita-himmelszelt.toelz-evangelisch.de/event/kita-schliesst-um-1200-uhr/
CATEGORIES:Schließtage
END:VEVENT
END:VCALENDAR