BEGIN:VCALENDAR
VERSION:2.0
PRODID:-//Kita Himmelszelt - ECPv6.15.20//NONSGML v1.0//EN
CALSCALE:GREGORIAN
METHOD:PUBLISH
X-WR-CALNAME:Kita Himmelszelt
X-ORIGINAL-URL:https://kita-himmelszelt.toelz-evangelisch.de
X-WR-CALDESC:Veranstaltungen für Kita Himmelszelt
REFRESH-INTERVAL;VALUE=DURATION:PT1H
X-Robots-Tag:noindex
X-PUBLISHED-TTL:PT1H
BEGIN:VTIMEZONE
TZID:Europe/Berlin
BEGIN:DAYLIGHT
TZOFFSETFROM:+0100
TZOFFSETTO:+0200
TZNAME:CEST
DTSTART:20220327T010000
END:DAYLIGHT
BEGIN:STANDARD
TZOFFSETFROM:+0200
TZOFFSETTO:+0100
TZNAME:CET
DTSTART:20221030T010000
END:STANDARD
BEGIN:DAYLIGHT
TZOFFSETFROM:+0100
TZOFFSETTO:+0200
TZNAME:CEST
DTSTART:20230326T010000
END:DAYLIGHT
BEGIN:STANDARD
TZOFFSETFROM:+0200
TZOFFSETTO:+0100
TZNAME:CET
DTSTART:20231029T010000
END:STANDARD
BEGIN:DAYLIGHT
TZOFFSETFROM:+0100
TZOFFSETTO:+0200
TZNAME:CEST
DTSTART:20240331T010000
END:DAYLIGHT
BEGIN:STANDARD
TZOFFSETFROM:+0200
TZOFFSETTO:+0100
TZNAME:CET
DTSTART:20241027T010000
END:STANDARD
END:VTIMEZONE
BEGIN:VEVENT
DTSTART;VALUE=DATE:20230518
DTEND;VALUE=DATE:20230519
DTSTAMP:20260425T054039
CREATED:20230503T084537Z
LAST-MODIFIED:20230503T085055Z
UID:8090-1684368000-1684454399@kita-himmelszelt.toelz-evangelisch.de
SUMMARY:Christi Himmelfahrt - Kita geschlossen
DESCRIPTION:Link-Text
URL:https://kita-himmelszelt.toelz-evangelisch.de/event/christi-himmelfahrt-kita-geschlossen-2/
CATEGORIES:Feiertage
END:VEVENT
BEGIN:VEVENT
DTSTART;VALUE=DATE:20230519
DTEND;VALUE=DATE:20230520
DTSTAMP:20260425T054039
CREATED:20230503T084707Z
LAST-MODIFIED:20230503T085038Z
UID:8092-1684454400-1684540799@kita-himmelszelt.toelz-evangelisch.de
SUMMARY:Brückentag - Kita geschlossen
DESCRIPTION:Link-Text Link-Text
URL:https://kita-himmelszelt.toelz-evangelisch.de/event/brueckentag-kita-geschlossen-3/
CATEGORIES:Schließtage
END:VEVENT
BEGIN:VEVENT
DTSTART;VALUE=DATE:20230522
DTEND;VALUE=DATE:20230527
DTSTAMP:20260425T054039
CREATED:20230503T084302Z
LAST-MODIFIED:20230503T085023Z
UID:8085-1684713600-1685145599@kita-himmelszelt.toelz-evangelisch.de
SUMMARY:Bibelwoche mit Pfarrer Johannes Schultheiß
DESCRIPTION:
URL:https://kita-himmelszelt.toelz-evangelisch.de/event/christi-himmelfahrt-kita-geschlossen/
CATEGORIES:Veranstaltungen und Feiern
END:VEVENT
BEGIN:VEVENT
DTSTART;VALUE=DATE:20230529
DTEND;VALUE=DATE:20230530
DTSTAMP:20260425T054039
CREATED:20230503T085528Z
LAST-MODIFIED:20230503T085528Z
UID:8104-1685318400-1685404799@kita-himmelszelt.toelz-evangelisch.de
SUMMARY:Feiertag - Kita geschlossen
DESCRIPTION:
URL:https://kita-himmelszelt.toelz-evangelisch.de/event/feiertag-kita-geschlossen/
CATEGORIES:Feiertage
END:VEVENT
END:VCALENDAR