BEGIN:VCALENDAR
VERSION:2.0
PRODID:-//Kita Himmelszelt - ECPv6.15.20//NONSGML v1.0//EN
CALSCALE:GREGORIAN
METHOD:PUBLISH
X-WR-CALNAME:Kita Himmelszelt
X-ORIGINAL-URL:https://kita-himmelszelt.toelz-evangelisch.de
X-WR-CALDESC:Veranstaltungen für Kita Himmelszelt
REFRESH-INTERVAL;VALUE=DURATION:PT1H
X-Robots-Tag:noindex
X-PUBLISHED-TTL:PT1H
BEGIN:VTIMEZONE
TZID:Europe/Berlin
BEGIN:DAYLIGHT
TZOFFSETFROM:+0100
TZOFFSETTO:+0200
TZNAME:CEST
DTSTART:20210328T010000
END:DAYLIGHT
BEGIN:STANDARD
TZOFFSETFROM:+0200
TZOFFSETTO:+0100
TZNAME:CET
DTSTART:20211031T010000
END:STANDARD
BEGIN:DAYLIGHT
TZOFFSETFROM:+0100
TZOFFSETTO:+0200
TZNAME:CEST
DTSTART:20220327T010000
END:DAYLIGHT
BEGIN:STANDARD
TZOFFSETFROM:+0200
TZOFFSETTO:+0100
TZNAME:CET
DTSTART:20221030T010000
END:STANDARD
BEGIN:DAYLIGHT
TZOFFSETFROM:+0100
TZOFFSETTO:+0200
TZNAME:CEST
DTSTART:20230326T010000
END:DAYLIGHT
BEGIN:STANDARD
TZOFFSETFROM:+0200
TZOFFSETTO:+0100
TZNAME:CET
DTSTART:20231029T010000
END:STANDARD
BEGIN:DAYLIGHT
TZOFFSETFROM:+0100
TZOFFSETTO:+0200
TZNAME:CEST
DTSTART:20240331T010000
END:DAYLIGHT
BEGIN:STANDARD
TZOFFSETFROM:+0200
TZOFFSETTO:+0100
TZNAME:CET
DTSTART:20241027T010000
END:STANDARD
END:VTIMEZONE
BEGIN:VEVENT
DTSTART;TZID=Europe/Berlin:20221206T080000
DTEND;TZID=Europe/Berlin:20221206T130000
DTSTAMP:20260425T235258
CREATED:20220810T064431Z
LAST-MODIFIED:20220810T064431Z
UID:7757-1670313600-1670331600@kita-himmelszelt.toelz-evangelisch.de
SUMMARY:Nikolausfeier mit Kindern
DESCRIPTION:
URL:https://kita-himmelszelt.toelz-evangelisch.de/event/nikolausfeier-mit-kindern/
CATEGORIES:Veranstaltungen und Feiern
END:VEVENT
BEGIN:VEVENT
DTSTART;VALUE=DATE:20221222
DTEND;VALUE=DATE:20221223
DTSTAMP:20260425T235258
CREATED:20220810T063045Z
LAST-MODIFIED:20220810T063404Z
UID:7738-1671667200-1671753599@kita-himmelszelt.toelz-evangelisch.de
SUMMARY:Weihnachtsfeier mit Eltern - Kita schließt um 13 Uhr
DESCRIPTION:
URL:https://kita-himmelszelt.toelz-evangelisch.de/event/teamtag-kita-geschlossen-5/
CATEGORIES:Öffnungstage
END:VEVENT
BEGIN:VEVENT
DTSTART;VALUE=DATE:20221223
DTEND;VALUE=DATE:20230106
DTSTAMP:20260425T235258
CREATED:20220810T063134Z
LAST-MODIFIED:20220810T063134Z
UID:7741-1671753600-1672963199@kita-himmelszelt.toelz-evangelisch.de
SUMMARY:Weihnachtsferien
DESCRIPTION:
URL:https://kita-himmelszelt.toelz-evangelisch.de/event/weihnachtsferien-2/
CATEGORIES:Schließtage
END:VEVENT
END:VCALENDAR