BEGIN:VCALENDAR
VERSION:2.0
PRODID:-//Kita Himmelszelt - ECPv6.15.20//NONSGML v1.0//EN
CALSCALE:GREGORIAN
METHOD:PUBLISH
X-ORIGINAL-URL:https://kita-himmelszelt.toelz-evangelisch.de
X-WR-CALDESC:Veranstaltungen für Kita Himmelszelt
REFRESH-INTERVAL;VALUE=DURATION:PT1H
X-Robots-Tag:noindex
X-PUBLISHED-TTL:PT1H
BEGIN:VTIMEZONE
TZID:Europe/Berlin
BEGIN:DAYLIGHT
TZOFFSETFROM:+0100
TZOFFSETTO:+0200
TZNAME:CEST
DTSTART:20210328T010000
END:DAYLIGHT
BEGIN:STANDARD
TZOFFSETFROM:+0200
TZOFFSETTO:+0100
TZNAME:CET
DTSTART:20211031T010000
END:STANDARD
BEGIN:DAYLIGHT
TZOFFSETFROM:+0100
TZOFFSETTO:+0200
TZNAME:CEST
DTSTART:20220327T010000
END:DAYLIGHT
BEGIN:STANDARD
TZOFFSETFROM:+0200
TZOFFSETTO:+0100
TZNAME:CET
DTSTART:20221030T010000
END:STANDARD
BEGIN:DAYLIGHT
TZOFFSETFROM:+0100
TZOFFSETTO:+0200
TZNAME:CEST
DTSTART:20230326T010000
END:DAYLIGHT
BEGIN:STANDARD
TZOFFSETFROM:+0200
TZOFFSETTO:+0100
TZNAME:CET
DTSTART:20231029T010000
END:STANDARD
END:VTIMEZONE
BEGIN:VEVENT
DTSTART;VALUE=DATE:20221107
DTEND;VALUE=DATE:20221108
DTSTAMP:20260426T012529
CREATED:20220810T062838Z
LAST-MODIFIED:20220810T063232Z
UID:7734-1667779200-1667865599@kita-himmelszelt.toelz-evangelisch.de
SUMMARY:Leonhardi - Kita geschlossen
DESCRIPTION:
URL:https://kita-himmelszelt.toelz-evangelisch.de/event/leonhardi-kita-geschlossen/
CATEGORIES:Schließtage
END:VEVENT
BEGIN:VEVENT
DTSTART;VALUE=DATE:20221116
DTEND;VALUE=DATE:20221117
DTSTAMP:20260426T012529
CREATED:20220810T062926Z
LAST-MODIFIED:20220810T063253Z
UID:7736-1668556800-1668643199@kita-himmelszelt.toelz-evangelisch.de
SUMMARY:Buß- und Bettag - Kita schließt um 13 Uhr
DESCRIPTION:
URL:https://kita-himmelszelt.toelz-evangelisch.de/event/buss-und-bettag-kita-schliesst-um-13-uhr/
CATEGORIES:Öffnungstage
END:VEVENT
BEGIN:VEVENT
DTSTART;VALUE=DATE:20221118
DTEND;VALUE=DATE:20221119
DTSTAMP:20260426T012529
CREATED:20220810T063513Z
LAST-MODIFIED:20220810T063513Z
UID:7745-1668729600-1668815999@kita-himmelszelt.toelz-evangelisch.de
SUMMARY:Teamtag - Kita geschlossen
DESCRIPTION:
URL:https://kita-himmelszelt.toelz-evangelisch.de/event/teamtag-kita-geschlossen-6/
CATEGORIES:Schließtage
END:VEVENT
BEGIN:VEVENT
DTSTART;TZID=Europe/Berlin:20221127T110000
DTEND;TZID=Europe/Berlin:20221127T120000
DTSTAMP:20260426T012529
CREATED:20220810T064350Z
LAST-MODIFIED:20220810T064350Z
UID:7755-1669546800-1669550400@kita-himmelszelt.toelz-evangelisch.de
SUMMARY:1. Adventsgottesdienst
DESCRIPTION:
URL:https://kita-himmelszelt.toelz-evangelisch.de/event/1-adventsgottesdienst/
CATEGORIES:Veranstaltungen und Feiern
END:VEVENT
END:VCALENDAR